BEGIN:VCALENDAR
VERSION:2.0
PRODID:-//United Services for Children - ECPv6.11.0.1//NONSGML v1.0//EN
CALSCALE:GREGORIAN
METHOD:PUBLISH
X-WR-CALNAME:United Services for Children
X-ORIGINAL-URL:https://staging.unitedservicesforchildren.org
X-WR-CALDESC:Events for United Services for Children
REFRESH-INTERVAL;VALUE=DURATION:PT1H
X-Robots-Tag:noindex
X-PUBLISHED-TTL:PT1H
BEGIN:VTIMEZONE
TZID:America/Chicago
BEGIN:DAYLIGHT
TZOFFSETFROM:-0600
TZOFFSETTO:-0500
TZNAME:CDT
DTSTART:20240310T080000
END:DAYLIGHT
BEGIN:STANDARD
TZOFFSETFROM:-0500
TZOFFSETTO:-0600
TZNAME:CST
DTSTART:20241103T070000
END:STANDARD
END:VTIMEZONE
BEGIN:VEVENT
DTSTART;TZID=America/Chicago:20240722T080000
DTEND;TZID=America/Chicago:20240806T170000
DTSTAMP:20260424T060122
CREATED:20220524T214515Z
LAST-MODIFIED:20240410T202851Z
UID:2638-1721635200-1722963600@staging.unitedservicesforchildren.org
SUMMARY:No EI Classes July 22-Aug 6
DESCRIPTION:
URL:https://staging.unitedservicesforchildren.org/event/no-ei-classes-4/
END:VEVENT
BEGIN:VEVENT
DTSTART;TZID=America/Chicago:20240708T080000
DTEND;TZID=America/Chicago:20240719T170000
DTSTAMP:20260424T060122
CREATED:20220524T214628Z
LAST-MODIFIED:20240410T203107Z
UID:2640-1720425600-1721408400@staging.unitedservicesforchildren.org
SUMMARY:Early Intervention Resumes July 8-19
DESCRIPTION:
URL:https://staging.unitedservicesforchildren.org/event/esy-session-two/
END:VEVENT
BEGIN:VEVENT
DTSTART;VALUE=DATE:20240704
DTEND;VALUE=DATE:20240706
DTSTAMP:20260424T060122
CREATED:20230628T224031Z
LAST-MODIFIED:20240410T202958Z
UID:2959-1720051200-1720223999@staging.unitedservicesforchildren.org
SUMMARY:Agency Closed July 4-5
DESCRIPTION:
URL:https://staging.unitedservicesforchildren.org/event/july-4-agency-closed/
END:VEVENT
BEGIN:VEVENT
DTSTART;VALUE=DATE:20240617
DTEND;VALUE=DATE:20240629
DTSTAMP:20260424T060122
CREATED:20200812T173819Z
LAST-MODIFIED:20230720T203344Z
UID:2116-1718582400-1719619199@staging.unitedservicesforchildren.org
SUMMARY:ESY Session One
DESCRIPTION:
URL:https://staging.unitedservicesforchildren.org/event/esy-session-1/
END:VEVENT
BEGIN:VEVENT
DTSTART;VALUE=DATE:20240530
DTEND;VALUE=DATE:20240615
DTSTAMP:20260424T060122
CREATED:20210617T161155Z
LAST-MODIFIED:20240410T203210Z
UID:2353-1717027200-1718409599@staging.unitedservicesforchildren.org
SUMMARY:No EI Classes
DESCRIPTION:
URL:https://staging.unitedservicesforchildren.org/event/no-ei-classes-3/
END:VEVENT
BEGIN:VEVENT
DTSTART;VALUE=DATE:20240527
DTEND;VALUE=DATE:20240528
DTSTAMP:20260424T060122
CREATED:20210617T161022Z
LAST-MODIFIED:20230720T203557Z
UID:2351-1716768000-1716854399@staging.unitedservicesforchildren.org
SUMMARY:Memorial Day - Agency Closed
DESCRIPTION:
URL:https://staging.unitedservicesforchildren.org/event/memorial-day-agency-closed/
END:VEVENT
BEGIN:VEVENT
DTSTART;VALUE=DATE:20240524
DTEND;VALUE=DATE:20240525
DTSTAMP:20260424T060122
CREATED:20200812T173621Z
LAST-MODIFIED:20231102T225051Z
UID:2112-1716508800-1716595199@staging.unitedservicesforchildren.org
SUMMARY:Last Class Day
DESCRIPTION:
URL:https://staging.unitedservicesforchildren.org/event/last-class-day-2/
END:VEVENT
END:VCALENDAR